BEGIN:VCALENDAR
VERSION:2.0
PRODID:-//eventon.com NONSGML v1.0//EN
BEGIN:VEVENT
UID:69e88a6922c72
DTSTAMP:20260422T044425
DTSTART:20191020T150000Z
DTEND:20191021T035000Z
LOCATION:WATER FRONT GARDENS VIGIE 
SUMMARY:BACCHANAL BRUNCH
DESCRIPTION: 
END:VEVENT
END:VCALENDAR