BEGIN:VCALENDAR
VERSION:2.0
PRODID:-//eventon.com NONSGML v1.0//EN
BEGIN:VEVENT
UID:69ecb9e72f5ff
DTSTAMP:20260425T085607
DTSTART:20200215T230000Z
DTEND:20200216T035000Z
LOCATION:National Cultural Centre 
SUMMARY:Miss Independence Pageant
DESCRIPTION: Miss Independence Pageant
END:VEVENT
END:VCALENDAR